BEGIN:VCALENDAR
VERSION:2.0
PRODID:-//CASA of the Pikes Peak Region - Court Appointed Special Advocates - ECPv6.15.20//NONSGML v1.0//EN
CALSCALE:GREGORIAN
METHOD:PUBLISH
X-WR-CALNAME:CASA of the Pikes Peak Region - Court Appointed Special Advocates
X-ORIGINAL-URL:https://www.casappr.org
X-WR-CALDESC:Events for CASA of the Pikes Peak Region - Court Appointed Special Advocates
REFRESH-INTERVAL;VALUE=DURATION:PT1H
X-Robots-Tag:noindex
X-PUBLISHED-TTL:PT1H
BEGIN:VTIMEZONE
TZID:America/Denver
BEGIN:DAYLIGHT
TZOFFSETFROM:-0700
TZOFFSETTO:-0600
TZNAME:MDT
DTSTART:20220313T090000
END:DAYLIGHT
BEGIN:STANDARD
TZOFFSETFROM:-0600
TZOFFSETTO:-0700
TZNAME:MST
DTSTART:20221106T080000
END:STANDARD
BEGIN:DAYLIGHT
TZOFFSETFROM:-0700
TZOFFSETTO:-0600
TZNAME:MDT
DTSTART:20230312T090000
END:DAYLIGHT
BEGIN:STANDARD
TZOFFSETFROM:-0600
TZOFFSETTO:-0700
TZNAME:MST
DTSTART:20231105T080000
END:STANDARD
BEGIN:DAYLIGHT
TZOFFSETFROM:-0700
TZOFFSETTO:-0600
TZNAME:MDT
DTSTART:20240310T090000
END:DAYLIGHT
BEGIN:STANDARD
TZOFFSETFROM:-0600
TZOFFSETTO:-0700
TZNAME:MST
DTSTART:20241103T080000
END:STANDARD
END:VTIMEZONE
BEGIN:VEVENT
DTSTART;TZID=America/Denver:20230517T170000
DTEND;TZID=America/Denver:20230517T183000
DTSTAMP:20260424T103246
CREATED:20230316T175821Z
LAST-MODIFIED:20230417T212953Z
UID:12270-1684342800-1684348200@www.casappr.org
SUMMARY:Infant Mental Health
DESCRIPTION:Infant Mental Health   \nWednesday May 17\, 2023 \nTime 5:00 PM – 6:30 PM  VIRTUAL. Link here: https://us02web.zoom.us/meeting/register/tZYqdO-hrzMuE9foGi3OEASHWguBM_yqC02S \nSponsor:  Jackie De’Anda \nPresenter:  Michelle Roy\, PhD \nDescription:  This training provides an overview of infant and early childhood mental health\, the importance of relationships during the child’s early life-stages\, the impacts of trauma on development\, and discusses how CASA advocates support and advocate mental health through the infant and early childhood stages. \nRSVP to Lisa Pecoraro at lisap@casappr.org \n​​​​​***DO NOT FORGET TO LOG TRAINING HOURS INTO OPTIMA***
URL:https://www.casappr.org/event/infant-mental-health/
END:VEVENT
END:VCALENDAR