BEGIN:VCALENDAR
VERSION:2.0
PRODID:-//CASA of the Pikes Peak Region - Court Appointed Special Advocates - ECPv6.15.20//NONSGML v1.0//EN
CALSCALE:GREGORIAN
METHOD:PUBLISH
X-WR-CALNAME:CASA of the Pikes Peak Region - Court Appointed Special Advocates
X-ORIGINAL-URL:https://www.casappr.org
X-WR-CALDESC:Events for CASA of the Pikes Peak Region - Court Appointed Special Advocates
REFRESH-INTERVAL;VALUE=DURATION:PT1H
X-Robots-Tag:noindex
X-PUBLISHED-TTL:PT1H
BEGIN:VTIMEZONE
TZID:America/Denver
BEGIN:DAYLIGHT
TZOFFSETFROM:-0700
TZOFFSETTO:-0600
TZNAME:MDT
DTSTART:20230312T090000
END:DAYLIGHT
BEGIN:STANDARD
TZOFFSETFROM:-0600
TZOFFSETTO:-0700
TZNAME:MST
DTSTART:20231105T080000
END:STANDARD
BEGIN:DAYLIGHT
TZOFFSETFROM:-0700
TZOFFSETTO:-0600
TZNAME:MDT
DTSTART:20240310T090000
END:DAYLIGHT
BEGIN:STANDARD
TZOFFSETFROM:-0600
TZOFFSETTO:-0700
TZNAME:MST
DTSTART:20241103T080000
END:STANDARD
BEGIN:DAYLIGHT
TZOFFSETFROM:-0700
TZOFFSETTO:-0600
TZNAME:MDT
DTSTART:20250309T090000
END:DAYLIGHT
BEGIN:STANDARD
TZOFFSETFROM:-0600
TZOFFSETTO:-0700
TZNAME:MST
DTSTART:20251102T080000
END:STANDARD
END:VTIMEZONE
BEGIN:VEVENT
DTSTART;TZID=America/Denver:20240722T080000
DTEND;TZID=America/Denver:20240828T170000
DTSTAMP:20260423T225409
CREATED:20240716T153707Z
LAST-MODIFIED:20240716T153707Z
UID:12624-1721635200-1724864400@www.casappr.org
SUMMARY:COLORADO CASA Statewide TBRI®️ Training for CASA Staff and Volunteers VIRTUAL
DESCRIPTION:COLORADO CASA Statewide TBRI®️ Training for CASA Staff and Volunteers VIRTUAL \nJuly 22nd\, 24th\, 29th\, and 31st AND August 19th\, 21st\, 26th\, and 28th \nWith the support of State VALE funds\, CASA of Larimer will be offering the TBRI®️ Caregiver Package to Staff and Volunteers of local CASA programs across Colorado. TBRI® is an attachment-based\, trauma-informed intervention that is designed to meet the complex needs of vulnerable children. TBRI® uses Empowering Principles to address physical needs\, Connecting Principles for attachment needs\, and Correcting Principles to disarm fear-based behaviors. The intervention is based on years of attachment\, sensory processing\, and neuroscience research. It is primarily delivered as the TBRI®️ Caregiver Package\, which is 24 hours of training in four parts (Overview\, Connecting\, Empowering\, Correcting). CASA of Larimer County will be offering each part regularly over the next year. \nThe 6-hour TBRI®️ Overview is required before taking the following principles. It provides the basis of attachment and research on which TBRI®️ builds. The Overview is six hours divided into four sessions over two weeks. Sessions will be on Mondays and Wednesdays 11:30am-1pm. Participants must attend the full six hours consecutively. Training is free of charge and completion of two post training surveys is required.  Attendance is limited\, so sign up now! \nUpcoming sessions: \n\nJuly 22nd\, 24th\, 29th\, and 31st\nAugust 19th\, 21st\, 26th\, and 28th\n\nREGISTER HERE:  https://survey.alchemer.com/s3/7899682/TBRI-Registration-CASA
URL:https://www.casappr.org/event/colorado-casa-statewide-tbri%ef%b8%8f-training-for-casa-staff-and-volunteers-virtual/
END:VEVENT
END:VCALENDAR