BEGIN:VCALENDAR
VERSION:2.0
PRODID:-//CASA of the Pikes Peak Region - Court Appointed Special Advocates - ECPv6.15.20//NONSGML v1.0//EN
CALSCALE:GREGORIAN
METHOD:PUBLISH
X-WR-CALNAME:CASA of the Pikes Peak Region - Court Appointed Special Advocates
X-ORIGINAL-URL:https://www.casappr.org
X-WR-CALDESC:Events for CASA of the Pikes Peak Region - Court Appointed Special Advocates
REFRESH-INTERVAL;VALUE=DURATION:PT1H
X-Robots-Tag:noindex
X-PUBLISHED-TTL:PT1H
BEGIN:VTIMEZONE
TZID:America/Denver
BEGIN:DAYLIGHT
TZOFFSETFROM:-0700
TZOFFSETTO:-0600
TZNAME:MDT
DTSTART:20240310T090000
END:DAYLIGHT
BEGIN:STANDARD
TZOFFSETFROM:-0600
TZOFFSETTO:-0700
TZNAME:MST
DTSTART:20241103T080000
END:STANDARD
BEGIN:DAYLIGHT
TZOFFSETFROM:-0700
TZOFFSETTO:-0600
TZNAME:MDT
DTSTART:20250309T090000
END:DAYLIGHT
BEGIN:STANDARD
TZOFFSETFROM:-0600
TZOFFSETTO:-0700
TZNAME:MST
DTSTART:20251102T080000
END:STANDARD
BEGIN:DAYLIGHT
TZOFFSETFROM:-0700
TZOFFSETTO:-0600
TZNAME:MDT
DTSTART:20260308T090000
END:DAYLIGHT
BEGIN:STANDARD
TZOFFSETFROM:-0600
TZOFFSETTO:-0700
TZNAME:MST
DTSTART:20261101T080000
END:STANDARD
END:VTIMEZONE
BEGIN:VEVENT
DTSTART;TZID=America/Denver:20251114T120000
DTEND;TZID=America/Denver:20251114T130000
DTSTAMP:20260425T193702
CREATED:20251013T204539Z
LAST-MODIFIED:20251013T204554Z
UID:12980-1763121600-1763125200@www.casappr.org
SUMMARY:View from the Bench: Working with Children and Youth of Incarcerated and Institutionalized Parents
DESCRIPTION:November 14th\, 12-1 pm MDT \nZOOM \nRegister: https://nationalcasagal.zoom.us/webinar/register/WN_3yeh7fZiRHGriQqLzAOxmw#/registration  \nProgram ID #: 10073 \nOrganization: CASA PPR \nJob Title: Advocate \nPlease note: If you are unable to attend the live presentation of the training\, we encourage you to register\, as you will receive a post-training email from the National CASA/GAL Association with information on how to access the recorded session\, along with any related collateral materials. In-service credit is awarded regardless of how you participate\, either live\, day of or by accessing the recording. \n 
URL:https://www.casappr.org/event/view-from-the-bench-working-with-children-and-youth-of-incarcerated-and-institutionalized-parents/
END:VEVENT
END:VCALENDAR