BEGIN:VCALENDAR
VERSION:2.0
PRODID:-//CASA of the Pikes Peak Region - Court Appointed Special Advocates - ECPv6.15.20//NONSGML v1.0//EN
CALSCALE:GREGORIAN
METHOD:PUBLISH
X-WR-CALNAME:CASA of the Pikes Peak Region - Court Appointed Special Advocates
X-ORIGINAL-URL:https://www.casappr.org
X-WR-CALDESC:Events for CASA of the Pikes Peak Region - Court Appointed Special Advocates
REFRESH-INTERVAL;VALUE=DURATION:PT1H
X-Robots-Tag:noindex
X-PUBLISHED-TTL:PT1H
BEGIN:VTIMEZONE
TZID:America/Denver
BEGIN:DAYLIGHT
TZOFFSETFROM:-0700
TZOFFSETTO:-0600
TZNAME:MDT
DTSTART:20240310T090000
END:DAYLIGHT
BEGIN:STANDARD
TZOFFSETFROM:-0600
TZOFFSETTO:-0700
TZNAME:MST
DTSTART:20241103T080000
END:STANDARD
BEGIN:DAYLIGHT
TZOFFSETFROM:-0700
TZOFFSETTO:-0600
TZNAME:MDT
DTSTART:20250309T090000
END:DAYLIGHT
BEGIN:STANDARD
TZOFFSETFROM:-0600
TZOFFSETTO:-0700
TZNAME:MST
DTSTART:20251102T080000
END:STANDARD
BEGIN:DAYLIGHT
TZOFFSETFROM:-0700
TZOFFSETTO:-0600
TZNAME:MDT
DTSTART:20260308T090000
END:DAYLIGHT
BEGIN:STANDARD
TZOFFSETFROM:-0600
TZOFFSETTO:-0700
TZNAME:MST
DTSTART:20261101T080000
END:STANDARD
END:VTIMEZONE
BEGIN:VEVENT
DTSTART;TZID=America/Denver:20251202T113000
DTEND;TZID=America/Denver:20251202T133000
DTSTAMP:20260425T181241
CREATED:20251117T201559Z
LAST-MODIFIED:20251117T201559Z
UID:13008-1764675000-1764682200@www.casappr.org
SUMMARY:Ally Training
DESCRIPTION:Ally Training will be presented by CASA of Adams and Broomfield.\nIt will be in person and you can register here:\nhttps://www.signupgenius.com/go/10C0A44A5A82AA0FEC61-59795145-trevor \n  \n 
URL:https://www.casappr.org/event/ally-training/
END:VEVENT
END:VCALENDAR