BEGIN:VCALENDAR
VERSION:2.0
PRODID:-//CASA of the Pikes Peak Region - Court Appointed Special Advocates - ECPv6.15.20//NONSGML v1.0//EN
CALSCALE:GREGORIAN
METHOD:PUBLISH
X-WR-CALNAME:CASA of the Pikes Peak Region - Court Appointed Special Advocates
X-ORIGINAL-URL:https://www.casappr.org
X-WR-CALDESC:Events for CASA of the Pikes Peak Region - Court Appointed Special Advocates
REFRESH-INTERVAL;VALUE=DURATION:PT1H
X-Robots-Tag:noindex
X-PUBLISHED-TTL:PT1H
BEGIN:VTIMEZONE
TZID:America/Denver
BEGIN:DAYLIGHT
TZOFFSETFROM:-0700
TZOFFSETTO:-0600
TZNAME:MDT
DTSTART:20250309T090000
END:DAYLIGHT
BEGIN:STANDARD
TZOFFSETFROM:-0600
TZOFFSETTO:-0700
TZNAME:MST
DTSTART:20251102T080000
END:STANDARD
BEGIN:DAYLIGHT
TZOFFSETFROM:-0700
TZOFFSETTO:-0600
TZNAME:MDT
DTSTART:20260308T090000
END:DAYLIGHT
BEGIN:STANDARD
TZOFFSETFROM:-0600
TZOFFSETTO:-0700
TZNAME:MST
DTSTART:20261101T080000
END:STANDARD
BEGIN:DAYLIGHT
TZOFFSETFROM:-0700
TZOFFSETTO:-0600
TZNAME:MDT
DTSTART:20270314T090000
END:DAYLIGHT
BEGIN:STANDARD
TZOFFSETFROM:-0600
TZOFFSETTO:-0700
TZNAME:MST
DTSTART:20271107T080000
END:STANDARD
END:VTIMEZONE
BEGIN:VEVENT
DTSTART;TZID=America/Denver:20260126T173000
DTEND;TZID=America/Denver:20260126T190000
DTSTAMP:20260425T150710
CREATED:20251215T175344Z
LAST-MODIFIED:20251215T175344Z
UID:13032-1769448600-1769454000@www.casappr.org
SUMMARY:DHS Safety and Risk Assessment
DESCRIPTION:DHS Safety and Risk Assessment \nRSVP to brennad@casappr.org \nEver wondered what goes into deciding if children should be removed or stay in the home after a call to the hotline is made? Join us for an in-service (in the CASA training room) to learn exactly what questions and conversations must be had to determine when DHS removes children. Our guest presenter\, Dan Mills\, who has worked at DHS for 30+ years\, will go through the safety and risk assessment that the county uses and answer any questions we may have. Then\, converse with your fellow advocates about our own socioeconomic bias and recognize when our recommendations and opinions qualify as safety issues versus preferences.
URL:https://www.casappr.org/event/dhs-safety-and-risk-assessment/
LOCATION:CASA of the Pikes Peak Region\, 418 South Weber St.\, Colorado Springs\, CO\, 80903\, United States
END:VEVENT
BEGIN:VEVENT
DTSTART;TZID=America/Denver:20260127T170000
DTEND;TZID=America/Denver:20260127T210000
DTSTAMP:20260425T150710
CREATED:20260116T161447Z
LAST-MODIFIED:20260116T161447Z
UID:13076-1769533200-1769547600@www.casappr.org
SUMMARY:Goat Patch Bleating Heart Night
DESCRIPTION:Goat Patch Brewing hosts “Bleating Heart Nights” to pair good beer with a good cause. \nEvery pint purchased on a Bleating Heart Night between 5 – 9 will result in a $1 donation to the featured non-profit! On Tuesday\, Jan. 27 – CASA of the Pikes Peak Region is that featured nonprofit. \nOn Tuesday\, January 27th\, we will be hosting CASA of the Pikes Peak Region!
URL:https://www.casappr.org/event/goat-patch-bleating-heart-night/
LOCATION:Goat Patch\, 2727 North Cascade Ave.\, Colorado Springs\, United States
END:VEVENT
BEGIN:VEVENT
DTSTART;TZID=America/Denver:20260128T120000
DTEND;TZID=America/Denver:20260128T130000
DTSTAMP:20260425T150710
CREATED:20260114T220047Z
LAST-MODIFIED:20260114T220047Z
UID:13071-1769601600-1769605200@www.casappr.org
SUMMARY:BACA (Bikers against child abuse) lunchtime presentation
DESCRIPTION:BACA (Bikers against Child Abuse) Lunchtime Presentation \nJanuary 28th\, 12-1pm \nCASA Training room & ZOOM \nBIKERS AGAINST CHILD ABUSE ® (B.A.C.A. ®) is an international non-profit that works with abused children who are living in fear. Participants will learn how BACA empowers these children to find their voice and take back their childhood. This will be offered in person at the CASA office and virtually through ZOOM. Heavy snacks will be provided\, but please feel free to bring your own lunch.  \nRSVP for in-person attendance: Brennad@casappr.org \nZoom Link: \nHttps://us02web.zoom.us/j/86314050769 
URL:https://www.casappr.org/event/baca-bikers-against-child-abuse-lunchtime-presentation/
END:VEVENT
END:VCALENDAR